BEGIN:VCALENDAR
VERSION:2.0
PRODID:-//wp-events-plugin.com//7.2.3.1//EN
TZID:Europe/Berlin
X-WR-TIMEZONE:Europe/Berlin
BEGIN:VEVENT
UID:35@diebasis-berlin.de
DTSTART;TZID=Europe/Berlin:20260508T160000
DTEND;TZID=Europe/Berlin:20260508T180000
DTSTAMP:20260413T214131Z
URL:https://diebasis-berlin.de/veranstaltungen/frieden-mit-russland/
SUMMARY:Frieden mit Russland - Aktionstheater
DESCRIPTION:Am 8. Mai 2026 sammeln sich um 16 Uhr Mitglieder der Basisdemok
 ratischen Partei am Alexanderplatz\, um ein Straßentheater aufzuführen. 
 Sie ziehen die Einmalanzüge für Malerarbeiten an und stehen eine Weile s
 till auf dem Alexanderplatz mit Schildern in der Hand\, um für den Friede
 n zu demonstrieren. Ganz besonders für den Frieden mit Russland\, denn Ru
 ssland ist nicht unser Feind.\n\nEs sind die Netzwerke der Kriegstreiber\,
  die vom Krieg profitieren und die Völker gegeneinander aufhetzen\, um ih
 re eigene Macht zu erhalten. Sie wollen\, dass wir den Wohlstand\, den die
  arbeitende Bevölkerung in vielen Jahren geschaffen hat\, wieder zerstör
 en und anschließend wieder Jahrzehnte daran arbeiten\, alles wieder aufzu
 bauen. Wir machen dabei nicht mit! Wir sagen NEIN!\n\nWir bieten allen Mit
 bürgern an\, sich an unserer Aktion zu beteiligen. Was gibt es Größeres
 \, als gemeinsam mit anderen friedliebenden Menschen ein Zeichen für den 
 Frieden zu setzen?!\n\n&nbsp\;
ATTACH;FMTTYPE=image/jpeg:https://diebasis-berlin.de/wp-content/uploads/20
 26/04/2026-05-08_Frieden-Russland-Quadrat_Beitrag.jpg
CATEGORIES:Demonstration,Flashmob,Versammlung
LOCATION:Alexanderplatz\, Alexanderplatz\, Berlin\, Berlin\, 10178\, Deutsc
 hland
X-APPLE-STRUCTURED-LOCATION;VALUE=URI;X-ADDRESS=Alexanderplatz\, Berlin\, B
 erlin\, 10178\, Deutschland;X-APPLE-RADIUS=100;X-TITLE=Alexanderplatz:geo:
 0,0
END:VEVENT
BEGIN:VTIMEZONE
TZID:Europe/Berlin
X-LIC-LOCATION:Europe/Berlin
BEGIN:DAYLIGHT
DTSTART:20260329T030000
TZOFFSETFROM:+0100
TZOFFSETTO:+0200
TZNAME:CEST
END:DAYLIGHT
END:VTIMEZONE
END:VCALENDAR